BEGIN:VCALENDAR
VERSION:2.0
PRODID:-//Theater Moller Haus //NONSGML Events //EN
CALSCALE:GREGORIAN
BEGIN:VEVENT
CREATED:20260423T095833Z
UID:6127
DTSTART:20260526T170000Z
DTSTAMP:20260424T050557Z
LOCATION:Theater Moller Haus\, Sandstr. 10\, 64283 Darmstadt
DESCRIPTION:Zart oder rau, laut oder leise – Begegnungen hinterlassen Spuren. In
SUMMARY:Spuren
ORGANIZER:Theater Moller Haus
URL;VALUE=URI:https://theatermollerhaus.de?p=6126
TRANSP:OPAQUE
END:VEVENT
END:VCALENDAR
