BEGIN:VCALENDAR
VERSION:2.0
PRODID:-//Theater Moller Haus //NONSGML Events //EN
CALSCALE:GREGORIAN
BEGIN:VEVENT
CREATED:20260423T100249Z
UID:6129
DTSTART:20260526T174500Z
DTSTAMP:20260424T050713Z
LOCATION:Theater Moller Haus\, Sandstr. 10\, 64283 Darmstadt
DESCRIPTION:The Futur steht für die Frage, wie unsere Welt in der Zukunft aussehe
SUMMARY:The Futur
ORGANIZER:Theater Moller Haus
URL;VALUE=URI:https://theatermollerhaus.de?p=6128
TRANSP:OPAQUE
END:VEVENT
END:VCALENDAR
