BEGIN:VCALENDAR
VERSION:2.0
PRODID:-//Theater Moller Haus //NONSGML Events //EN
CALSCALE:GREGORIAN
BEGIN:VEVENT
CREATED:20260423T100309Z
UID:6131
DTSTART:20260527T170000Z
DTSTAMP:20260424T051016Z
LOCATION:Theater Moller Haus\, Sandstr. 10\, 64283 Darmstadt
DESCRIPTION:Kleine putzige Hausmäuse beobachten die Menschen seit geraumer Zeit. 
SUMMARY:Von Menschen und Mäusen
ORGANIZER:Theater Moller Haus
URL;VALUE=URI:https://theatermollerhaus.de?p=6130
TRANSP:OPAQUE
END:VEVENT
END:VCALENDAR
