BEGIN:VCALENDAR
VERSION:2.0
PRODID:-//Theater Moller Haus //NONSGML Events //EN
CALSCALE:GREGORIAN
BEGIN:VEVENT
CREATED:20260423T100326Z
UID:6133
DTSTART:20260527T174500Z
DTSTAMP:20260424T050557Z
LOCATION:Theater Moller Haus\, Sandstr. 10\, 64283 Darmstadt
DESCRIPTION:Die Schüler:innen der HEMS zeigen innerhalb eines kreativen Szenenpot
SUMMARY:Mensch werden – Mensch sein – Lebenswirklichkeiten
ORGANIZER:Theater Moller Haus
URL;VALUE=URI:https://theatermollerhaus.de?p=6132
TRANSP:OPAQUE
END:VEVENT
END:VCALENDAR
