BEGIN:VCALENDAR
VERSION:2.0
PRODID:-//Theater Moller Haus //NONSGML Events //EN
CALSCALE:GREGORIAN
BEGIN:VEVENT
CREATED:20260423T100345Z
UID:6135
DTSTART:20260528T170000Z
DTSTAMP:20260424T050547Z
LOCATION:Theater Moller Haus\, Sandstr. 10\, 64283 Darmstadt
DESCRIPTION:Wer bin ich heute, wer bin ich morgen, und wer will ich sein? Gemeinsa
SUMMARY:Ich? Ich… Ich!
ORGANIZER:Theater Moller Haus
URL;VALUE=URI:https://theatermollerhaus.de?p=6134
TRANSP:OPAQUE
END:VEVENT
END:VCALENDAR
