BEGIN:VCALENDAR
VERSION:2.0
PRODID:-//Theater Moller Haus //NONSGML Events //EN
CALSCALE:GREGORIAN
BEGIN:VEVENT
CREATED:20260423T100405Z
UID:6137
DTSTART:20260528T174500Z
DTSTAMP:20260424T051051Z
LOCATION:Theater Moller Haus\, Sandstr. 10\, 64283 Darmstadt
DESCRIPTION:Wenn die Nacht erwacht, wird Geschichte lebendig – ein spannendes A
SUMMARY:Eine Nacht im Museum
ORGANIZER:Theater Moller Haus
URL;VALUE=URI:https://theatermollerhaus.de?p=6136
TRANSP:OPAQUE
END:VEVENT
END:VCALENDAR
